BEGIN:VCALENDAR
VERSION:2.0
PRODID:-//Ville d&#039;Anduze - ECPv6.15.20//NONSGML v1.0//EN
CALSCALE:GREGORIAN
METHOD:PUBLISH
X-WR-CALNAME:Ville d&#039;Anduze
X-ORIGINAL-URL:https://mairie-anduze.fr
X-WR-CALDESC:Évènements pour Ville d&#039;Anduze
REFRESH-INTERVAL;VALUE=DURATION:PT1H
X-Robots-Tag:noindex
X-PUBLISHED-TTL:PT1H
BEGIN:VTIMEZONE
TZID:Europe/Paris
BEGIN:DAYLIGHT
TZOFFSETFROM:+0100
TZOFFSETTO:+0200
TZNAME:CEST
DTSTART:20180325T010000
END:DAYLIGHT
BEGIN:STANDARD
TZOFFSETFROM:+0200
TZOFFSETTO:+0100
TZNAME:CET
DTSTART:20181028T010000
END:STANDARD
BEGIN:DAYLIGHT
TZOFFSETFROM:+0100
TZOFFSETTO:+0200
TZNAME:CEST
DTSTART:20190331T010000
END:DAYLIGHT
BEGIN:STANDARD
TZOFFSETFROM:+0200
TZOFFSETTO:+0100
TZNAME:CET
DTSTART:20191027T010000
END:STANDARD
BEGIN:DAYLIGHT
TZOFFSETFROM:+0100
TZOFFSETTO:+0200
TZNAME:CEST
DTSTART:20200329T010000
END:DAYLIGHT
BEGIN:STANDARD
TZOFFSETFROM:+0200
TZOFFSETTO:+0100
TZNAME:CET
DTSTART:20201025T010000
END:STANDARD
BEGIN:DAYLIGHT
TZOFFSETFROM:+0100
TZOFFSETTO:+0200
TZNAME:CEST
DTSTART:20210328T010000
END:DAYLIGHT
BEGIN:STANDARD
TZOFFSETFROM:+0200
TZOFFSETTO:+0100
TZNAME:CET
DTSTART:20211031T010000
END:STANDARD
END:VTIMEZONE
BEGIN:VEVENT
DTSTART;TZID=Europe/Paris:20200319T174500
DTEND;TZID=Europe/Paris:20200319T183000
DTSTAMP:20260419T172858
CREATED:20200302T142553Z
LAST-MODIFIED:20200302T142553Z
UID:10001475-1584639900-1584642600@mairie-anduze.fr
SUMMARY:Journée nationale du souvenir et de recueillement à la mémoire des victimes civiles et militaires de la guerre d’Algérie et des combats en Tunisie et au Maroc
DESCRIPTION:Rassemblement à 17h45 devant l’Hôtel de Ville.
URL:https://mairie-anduze.fr/event/journee-nationale-du-souvenir-et-de-recueillement-a-la-memoire-des-victimes-civiles-et-militaires-de-la-guerre-dalgerie-et-des-combats-en-tunisie-et-au-maroc/
LOCATION:Mairie\, 1 Plan de Brie\, Anduze\, 30140\, France
ATTACH;FMTTYPE=image/jpeg:https://mairie-anduze.fr/wp-content/uploads/2020/03/Anduze-monument-aux-morts-1.jpg
END:VEVENT
BEGIN:VEVENT
DTSTART;TZID=Europe/Paris:20191111T113000
DTEND;TZID=Europe/Paris:20191111T130000
DTSTAMP:20260419T172858
CREATED:20191107T080034Z
LAST-MODIFIED:20191107T080034Z
UID:10001465-1573471800-1573477200@mairie-anduze.fr
SUMMARY:Commémoration de l’armistice de 1918
DESCRIPTION:Monsieur le Maire d’Anduze et son Conseil Municipal ont l’honneur de vous convier à commémorer l’armistice de 1918 le 11 Novembre 2019 à 11h30 devant l’Hôtel de Ville.
URL:https://mairie-anduze.fr/event/commemoration-de-larmistice-de-1918/
LOCATION:Mairie\, 1 Plan de Brie\, Anduze\, 30140\, France
ATTACH;FMTTYPE=image/jpeg:https://mairie-anduze.fr/wp-content/uploads/2019/11/14-18-1.jpg
END:VEVENT
BEGIN:VEVENT
DTSTART;TZID=Europe/Paris:20191010T090000
DTEND;TZID=Europe/Paris:20191010T120000
DTSTAMP:20260419T172858
CREATED:20190809T141443Z
LAST-MODIFIED:20190809T141443Z
UID:10001838-1570698000-1570708800@mairie-anduze.fr
SUMMARY:Permanence mutuelle communale
DESCRIPTION:Depuis plusieurs années\, les habitants de la commune peuvent souscrire leur complémentaire SANTE POUR TOUS à Anduze. \nLe but est de profiter de tarifs négociés en se regroupant et de mieux faire jouer les solidarités. \nLe contrat qui propose trois formules de garanties peut être souscrit par tous\, sans emploi\, actifs\, retraités\, jeunes et plus âgés y compris les artisans et commerçants. \nPoints forts : Tarifs compétitifs\, garantie obsèques\, protection juridique\, tiers payant national\, assistance. \nLe cabinet VDAssurances\, basé à St CHRISTOL LES ALES\, sera présent sur votre commune le 10 Octobre 2019 pour une permanence en mairie de 9h jusqu’à 12h. \nVous pouvez aussi nous contacter pour convenir d’un rendez-vous afin de vous conseiller au mieux et vous assister dans vos démarches. \nVous pouvez obtenir tous les renseignements : Cabinet VD Assurances \nj.vda30@gmail.com \n06 13 64 16 04 \nwww.vda30.fr \n 
URL:https://mairie-anduze.fr/event/permanence-mutuelle-communale/
LOCATION:Mairie\, 1 Plan de Brie\, Anduze\, 30140\, France
ATTACH;FMTTYPE=image/jpeg:https://mairie-anduze.fr/wp-content/uploads/2019/08/MX-6070V_20190909_081127_0001-e1568009692216-1.jpg
END:VEVENT
END:VCALENDAR