BEGIN:VCALENDAR
VERSION:2.0
PRODID:-//Ville d&#039;Anduze - ECPv6.15.20//NONSGML v1.0//EN
CALSCALE:GREGORIAN
METHOD:PUBLISH
X-WR-CALNAME:Ville d&#039;Anduze
X-ORIGINAL-URL:https://mairie-anduze.fr
X-WR-CALDESC:Évènements pour Ville d&#039;Anduze
REFRESH-INTERVAL;VALUE=DURATION:PT1H
X-Robots-Tag:noindex
X-PUBLISHED-TTL:PT1H
BEGIN:VTIMEZONE
TZID:Europe/Paris
BEGIN:DAYLIGHT
TZOFFSETFROM:+0100
TZOFFSETTO:+0200
TZNAME:CEST
DTSTART:20180325T010000
END:DAYLIGHT
BEGIN:STANDARD
TZOFFSETFROM:+0200
TZOFFSETTO:+0100
TZNAME:CET
DTSTART:20181028T010000
END:STANDARD
BEGIN:DAYLIGHT
TZOFFSETFROM:+0100
TZOFFSETTO:+0200
TZNAME:CEST
DTSTART:20190331T010000
END:DAYLIGHT
BEGIN:STANDARD
TZOFFSETFROM:+0200
TZOFFSETTO:+0100
TZNAME:CET
DTSTART:20191027T010000
END:STANDARD
BEGIN:DAYLIGHT
TZOFFSETFROM:+0100
TZOFFSETTO:+0200
TZNAME:CEST
DTSTART:20200329T010000
END:DAYLIGHT
BEGIN:STANDARD
TZOFFSETFROM:+0200
TZOFFSETTO:+0100
TZNAME:CET
DTSTART:20201025T010000
END:STANDARD
BEGIN:DAYLIGHT
TZOFFSETFROM:+0100
TZOFFSETTO:+0200
TZNAME:CEST
DTSTART:20210328T010000
END:DAYLIGHT
BEGIN:STANDARD
TZOFFSETFROM:+0200
TZOFFSETTO:+0100
TZNAME:CET
DTSTART:20211031T010000
END:STANDARD
BEGIN:DAYLIGHT
TZOFFSETFROM:+0100
TZOFFSETTO:+0200
TZNAME:CEST
DTSTART:20220327T010000
END:DAYLIGHT
BEGIN:STANDARD
TZOFFSETFROM:+0200
TZOFFSETTO:+0100
TZNAME:CET
DTSTART:20221030T010000
END:STANDARD
BEGIN:DAYLIGHT
TZOFFSETFROM:+0100
TZOFFSETTO:+0200
TZNAME:CEST
DTSTART:20230326T010000
END:DAYLIGHT
BEGIN:STANDARD
TZOFFSETFROM:+0200
TZOFFSETTO:+0100
TZNAME:CET
DTSTART:20231029T010000
END:STANDARD
BEGIN:DAYLIGHT
TZOFFSETFROM:+0100
TZOFFSETTO:+0200
TZNAME:CEST
DTSTART:20240331T010000
END:DAYLIGHT
BEGIN:STANDARD
TZOFFSETFROM:+0200
TZOFFSETTO:+0100
TZNAME:CET
DTSTART:20241027T010000
END:STANDARD
END:VTIMEZONE
BEGIN:VEVENT
DTSTART;TZID=Europe/Paris:20230527T140000
DTEND;TZID=Europe/Paris:20230527T170000
DTSTAMP:20260421T165428
CREATED:20230418T133154Z
LAST-MODIFIED:20230418T133155Z
UID:10001689-1685196000-1685206800@mairie-anduze.fr
SUMMARY:Atelier "Un autre regard sur la nature : parfums et sons de la nature"
DESCRIPTION:Atelier « parfums et sons de la nature » \n\n\n\nMieux connaître les fleurs grâce à vos sens \n\n\n\nPremier étage de l’Espace Pélico • 14h – 17h \n\n\n\nDégustation florale & interlude musical \n\n\n\nGratuits et ouverts à tous \n\n\n\nRenseignements et inscriptions : 06 60 25 85 36
URL:https://mairie-anduze.fr/event/atelier-un-autre-regard-sur-la-nature-parfums-et-sons-de-la-nature/
LOCATION:Espace Pélico\, rue Pélico\, 30140 Anduze
CATEGORIES:Culture
ATTACH;FMTTYPE=image/jpeg:https://mairie-anduze.fr/wp-content/uploads/2022/07/illustration_creation-et-decouverte_logo.jpg
END:VEVENT
BEGIN:VEVENT
DTSTART;TZID=Europe/Paris:20230429T140000
DTEND;TZID=Europe/Paris:20230429T170000
DTSTAMP:20260421T165428
CREATED:20230418T132947Z
LAST-MODIFIED:20230418T133036Z
UID:10001688-1682776800-1682787600@mairie-anduze.fr
SUMMARY:Atelier "Un autre regard sur la nature : kiri-tangami"
DESCRIPTION:Atelier « kiri-tangami » \n\n\n\nMieux connaître les fleurs grâce à vos sens \n\n\n\nPremier étage de l’Espace Pélico • 14h – 17h \n\n\n\nDégustation florale & interlude musical \n\n\n\nGratuits et ouverts à tous \n\n\n\nRenseignements et inscriptions : 06 60 25 85 36
URL:https://mairie-anduze.fr/event/atelier-un-autre-regard-sur-la-nature-au-printemps-2/
LOCATION:Espace Pélico\, rue Pélico\, 30140 Anduze
CATEGORIES:Culture
ATTACH;FMTTYPE=image/jpeg:https://mairie-anduze.fr/wp-content/uploads/2022/07/illustration_creation-et-decouverte_logo.jpg
END:VEVENT
BEGIN:VEVENT
DTSTART;TZID=Europe/Paris:20230126T093000
DTEND;TZID=Europe/Paris:20230126T200000
DTSTAMP:20260421T165428
CREATED:20230109T224412Z
LAST-MODIFIED:20230109T224413Z
UID:10001670-1674725400-1674763200@mairie-anduze.fr
SUMMARY:Forum santé • Addictions et conduites à risque
DESCRIPTION:Organisé par la mairie d’Anduze en partenariat avec le collège Florian et les structures ressources du territoire. \n\n\n\n\n\n\n\n\n\n9h30-11h30 & 14h-16h | Salle voûtée et salle Rohan de l’espace Pélico \n\n\n\nPour les élèves de 4ième du collège Florian \n\n\n\n\n\nAteliers de sensibilisation\n\n\n\n■ C.S.A.P.A. (Centre de soins\, d’Accompagnement et de Prévention en Addictologie)Information et échanges sur les addictions et les lieux de ressources \n\n\n\n■ S.D.I.S. (Service Départemental d’Incendie et de Secours)Gestes de premiers secours \n\n\n\n■ M.F.P.F. (Mouvement Français pour le Planning Familial) et CeGIDD (Centre Gratuit d’Information\, de Dépistage et de Diagnostic)Les risques en santé sexuelle\, le consentement \n\n\n\n■ Le Langage des PapillonsMur d’expression libre \n\n\n\n■ Les Petits DébrouillardsLes écrans \n\n\n\n\n\nThéâtre forum\n\n\n\n■ Compagnie les cinquantièmes hurlantsPièce de théâtre « K de conscience » \n\n\n\n\n\n\n\n\n\n\n\n\n\n\n\n18h-20h | Salle Rohan de l’espace Pélico \n\n\n\nTout public | Gratuit \n\n\n\nConférence-débat\n\n\n\nAnimé par l’association Addiction France \n\n\n\n\n\n\n\n\n\nPour plus d’informations contacter la mairie : Plan de Brie 30140 Anduze – 04 66 61 80 08
URL:https://mairie-anduze.fr/event/forum-sante-addictions-et-conduites-a-risque/
LOCATION:Espace Pélico\, rue Pélico\, 30140 Anduze
ATTACH;FMTTYPE=image/png:https://mairie-anduze.fr/wp-content/uploads/2023/01/20230126_forum-sante-et-conduites-a-risques_illustration.png
END:VEVENT
BEGIN:VEVENT
DTSTART;TZID=Europe/Paris:20220507T000000
DTEND;TZID=Europe/Paris:20220508T235959
DTSTAMP:20260421T165428
CREATED:20220428T143217Z
LAST-MODIFIED:20220505T222721Z
UID:10001995-1651881600-1652054399@mairie-anduze.fr
SUMMARY:Week-end Numismatique d'Anduze • 12e édition
DESCRIPTION:SAMEDI 7 MAI |18H CONFÉRENCE « Volc/Arec\, un monnayage pour Nîmes ?  \n\n\n\nAnimée par Laurent SchmittSalle des casernes (au 1er étage de l’Espace Pélico) \n\n\n\nDIMANCHE 8 MAI | 9H – 17H30 10e BOURSE NATIONALE NUMISMATIQUE & TOUTE COLLECTION  \n\n\n\nPlus de 40 exposants – Entrée et parking gratuitsBuvette et restauration sur placeSalle Rohan – Espace Pélico \n\n\n\n \n\n\n\n\n\n\n\n \n\n\n\nOrganisation et renseignements\n\n\n\nClub Numismatique Cévenol \n\n\n\n06 02 54 46 35 \n\n\n\nsecretaire@club-numismatique-cevenol.org \n\n\n\n\n\n\n\nclub-numismatique-cevenol.org
URL:https://mairie-anduze.fr/event/week-end-numismatique-danduze-12e-edition/
LOCATION:Espace Pélico\, rue Pélico\, 30140 Anduze
ATTACH;FMTTYPE=image/jpeg:https://mairie-anduze.fr/wp-content/uploads/2022/04/illustration_club_numismatique-cevenol.jpg
END:VEVENT
BEGIN:VEVENT
DTSTART;TZID=Europe/Paris:20200308T100000
DTEND;TZID=Europe/Paris:20200308T180000
DTSTAMP:20260421T165428
CREATED:20200305T072225Z
LAST-MODIFIED:20250326T112117Z
UID:10001478-1583661600-1583690400@mairie-anduze.fr
SUMMARY:Talents de femmes
DESCRIPTION:
URL:https://mairie-anduze.fr/event/talents-de-femmes/
LOCATION:Espace Pélico\, rue Pélico\, 30140 Anduze
ATTACH;FMTTYPE=image/jpeg:https://mairie-anduze.fr/wp-content/uploads/2020/03/TALENTS-DE-FEMMES.jpg
END:VEVENT
BEGIN:VEVENT
DTSTART;TZID=Europe/Paris:20200301T143000
DTEND;TZID=Europe/Paris:20200301T170000
DTSTAMP:20260421T165428
CREATED:20191031T074308Z
LAST-MODIFIED:20191031T074308Z
UID:10001463-1583073000-1583082000@mairie-anduze.fr
SUMMARY:Loto Eglise Réformée Evangélique
DESCRIPTION:
URL:https://mairie-anduze.fr/event/loto-eglise-reformee-evangelique/
LOCATION:Espace Pélico\, rue Pélico\, 30140 Anduze
ATTACH;FMTTYPE=image/jpeg:https://mairie-anduze.fr/wp-content/uploads/2019/05/lotos.jpg
END:VEVENT
BEGIN:VEVENT
DTSTART;TZID=Europe/Paris:20200223T143000
DTEND;TZID=Europe/Paris:20200223T170000
DTSTAMP:20260421T165428
CREATED:20191017T080804Z
LAST-MODIFIED:20191017T080804Z
UID:10001461-1582468200-1582477200@mairie-anduze.fr
SUMMARY:Loto ANCA
DESCRIPTION:
URL:https://mairie-anduze.fr/event/loto-anca/
LOCATION:Espace Pélico\, rue Pélico\, 30140 Anduze
ATTACH;FMTTYPE=image/jpeg:https://mairie-anduze.fr/wp-content/uploads/2019/05/lotos.jpg
END:VEVENT
BEGIN:VEVENT
DTSTART;TZID=Europe/Paris:20200216T143000
DTEND;TZID=Europe/Paris:20200216T170000
DTSTAMP:20260421T165428
CREATED:20191017T080718Z
LAST-MODIFIED:20191017T080718Z
UID:10001460-1581863400-1581872400@mairie-anduze.fr
SUMMARY:Loto du Club des Archers
DESCRIPTION:
URL:https://mairie-anduze.fr/event/loto-du-club-des-archers/
LOCATION:Espace Pélico\, rue Pélico\, 30140 Anduze
ATTACH;FMTTYPE=image/jpeg:https://mairie-anduze.fr/wp-content/uploads/2019/05/lotos.jpg
END:VEVENT
BEGIN:VEVENT
DTSTART;TZID=Europe/Paris:20200215T203000
DTEND;TZID=Europe/Paris:20200215T220000
DTSTAMP:20260421T165428
CREATED:20191017T080121Z
LAST-MODIFIED:20191017T080121Z
UID:10001459-1581798600-1581804000@mairie-anduze.fr
SUMMARY:Loto Société de Chasse
DESCRIPTION:
URL:https://mairie-anduze.fr/event/loto-societe-de-chasse/
LOCATION:Espace Pélico\, rue Pélico\, 30140 Anduze
ATTACH;FMTTYPE=image/jpeg:https://mairie-anduze.fr/wp-content/uploads/2019/05/lotos.jpg
END:VEVENT
BEGIN:VEVENT
DTSTART;TZID=Europe/Paris:20200215T100000
DTEND;TZID=Europe/Paris:20200215T120000
DTSTAMP:20260421T165428
CREATED:20200212T080053Z
LAST-MODIFIED:20200212T080053Z
UID:10001472-1581760800-1581768000@mairie-anduze.fr
SUMMARY:Petites incivilités
DESCRIPTION:
URL:https://mairie-anduze.fr/event/petites-incivilites/
LOCATION:Espace Pélico\, rue Pélico\, 30140 Anduze
ATTACH;FMTTYPE=application/pdf:https://mairie-anduze.fr/wp-content/uploads/2020/02/MX-6070V_20200212_085900.pdf
END:VEVENT
BEGIN:VEVENT
DTSTART;TZID=Europe/Paris:20200209T143000
DTEND;TZID=Europe/Paris:20200209T170000
DTSTAMP:20260421T165428
CREATED:20191017T080012Z
LAST-MODIFIED:20191017T080012Z
UID:10001876-1581258600-1581267600@mairie-anduze.fr
SUMMARY:Loto UCIA
DESCRIPTION:
URL:https://mairie-anduze.fr/event/loto-ucia/
LOCATION:Espace Pélico\, rue Pélico\, 30140 Anduze
ATTACH;FMTTYPE=image/jpeg:https://mairie-anduze.fr/wp-content/uploads/2019/10/LOTO-UCIA.jpg
END:VEVENT
BEGIN:VEVENT
DTSTART;TZID=Europe/Paris:20200202T143000
DTEND;TZID=Europe/Paris:20200202T170000
DTSTAMP:20260421T165428
CREATED:20191017T075824Z
LAST-MODIFIED:20191017T075824Z
UID:10001874-1580653800-1580662800@mairie-anduze.fr
SUMMARY:Loto APE des écoles
DESCRIPTION:
URL:https://mairie-anduze.fr/event/loto-ape-des-ecoles/
LOCATION:Espace Pélico\, rue Pélico\, 30140 Anduze
ATTACH;FMTTYPE=image/jpeg:https://mairie-anduze.fr/wp-content/uploads/2019/05/lotos.jpg
END:VEVENT
BEGIN:VEVENT
DTSTART;TZID=Europe/Paris:20200201T170000
DTEND;TZID=Europe/Paris:20200201T190000
DTSTAMP:20260421T165428
CREATED:20191017T075414Z
LAST-MODIFIED:20191017T075414Z
UID:10001873-1580576400-1580583600@mairie-anduze.fr
SUMMARY:Loto AVEC
DESCRIPTION:
URL:https://mairie-anduze.fr/event/loto-avec/
LOCATION:Espace Pélico\, rue Pélico\, 30140 Anduze
ATTACH;FMTTYPE=image/jpeg:https://mairie-anduze.fr/wp-content/uploads/2019/05/lotos.jpg
END:VEVENT
BEGIN:VEVENT
DTSTART;TZID=Europe/Paris:20200126T143000
DTEND;TZID=Europe/Paris:20200126T170000
DTSTAMP:20260421T165428
CREATED:20191017T074523Z
LAST-MODIFIED:20191017T074523Z
UID:10001871-1580049000-1580058000@mairie-anduze.fr
SUMMARY:Loto du Club de la Porte des Cévennes
DESCRIPTION:
URL:https://mairie-anduze.fr/event/loto-du-club-de-la-porte-des-cevennes/
LOCATION:Espace Pélico\, rue Pélico\, 30140 Anduze
ATTACH;FMTTYPE=image/jpeg:https://mairie-anduze.fr/wp-content/uploads/2019/05/lotos.jpg
END:VEVENT
BEGIN:VEVENT
DTSTART;TZID=Europe/Paris:20200119T143000
DTEND;TZID=Europe/Paris:20200119T163000
DTSTAMP:20260421T165428
CREATED:20191017T073137Z
LAST-MODIFIED:20240131T070635Z
UID:10001870-1579444200-1579451400@mairie-anduze.fr
SUMMARY:Loto de la Paroisse Catholique
DESCRIPTION:
URL:https://mairie-anduze.fr/event/loto-de-la-paroisse-catholique/
LOCATION:Espace Pélico\, rue Pélico\, 30140 Anduze
ATTACH;FMTTYPE=image/jpeg:https://mairie-anduze.fr/wp-content/uploads/2019/05/lotos.jpg
END:VEVENT
BEGIN:VEVENT
DTSTART;TZID=Europe/Paris:20200112T140000
DTEND;TZID=Europe/Paris:20200112T163000
DTSTAMP:20260421T165428
CREATED:20191017T073007Z
LAST-MODIFIED:20191017T073007Z
UID:10001868-1578837600-1578846600@mairie-anduze.fr
SUMMARY:Loto de l'UDARG
DESCRIPTION:
URL:https://mairie-anduze.fr/event/loto-de-ludarg/
LOCATION:Espace Pélico\, rue Pélico\, 30140 Anduze
ATTACH;FMTTYPE=image/jpeg:https://mairie-anduze.fr/wp-content/uploads/2019/05/lotos.jpg
END:VEVENT
BEGIN:VEVENT
DTSTART;TZID=Europe/Paris:20200111T143000
DTEND;TZID=Europe/Paris:20200111T163000
DTSTAMP:20260421T165428
CREATED:20200102T071644Z
LAST-MODIFIED:20200102T071644Z
UID:10001850-1578753000-1578760200@mairie-anduze.fr
SUMMARY:Quartier Libre Cévennes
DESCRIPTION:
URL:https://mairie-anduze.fr/event/quartier-libre-cevennes-4/
LOCATION:Espace Pélico\, rue Pélico\, 30140 Anduze
ATTACH;FMTTYPE=image/jpeg:https://mairie-anduze.fr/wp-content/uploads/2020/01/Flyer-QL-janvier-2020.jpg
END:VEVENT
BEGIN:VEVENT
DTSTART;TZID=Europe/Paris:20200110T183000
DTEND;TZID=Europe/Paris:20200110T210000
DTSTAMP:20260421T165428
CREATED:20191220T073937Z
LAST-MODIFIED:20191220T073937Z
UID:10001847-1578681000-1578690000@mairie-anduze.fr
SUMMARY:Cérémonie des vœux 2020
DESCRIPTION:Le Maire et son Conseil Municipal sont heureux de vous convier à la cérémonie des vœux le vendredi 10 janvier 2020 à 18h00. \nLa cérémonie se tiendra à l’espace Marcel Pagnol et sera suivie du traditionnel apéritif dînatoire.
URL:https://mairie-anduze.fr/event/voeux-2020/
LOCATION:Espace Pélico\, rue Pélico\, 30140 Anduze
ATTACH;FMTTYPE=image/jpeg:https://mairie-anduze.fr/wp-content/uploads/2019/12/Voeux-2020-site-mairie.jpg
END:VEVENT
BEGIN:VEVENT
DTSTART;TZID=Europe/Paris:20191229T140000
DTEND;TZID=Europe/Paris:20191229T170000
DTSTAMP:20260421T165428
CREATED:20191031T074206Z
LAST-MODIFIED:20191031T074206Z
UID:10001462-1577628000-1577638800@mairie-anduze.fr
SUMMARY:Loto  SCA
DESCRIPTION:
URL:https://mairie-anduze.fr/event/loto-sca/
LOCATION:Espace Pélico\, rue Pélico\, 30140 Anduze
ATTACH;FMTTYPE=image/jpeg:https://mairie-anduze.fr/wp-content/uploads/2019/05/lotos.jpg
END:VEVENT
BEGIN:VEVENT
DTSTART;TZID=Europe/Paris:20191222T143000
DTEND;TZID=Europe/Paris:20191222T163000
DTSTAMP:20260421T165428
CREATED:20191017T072840Z
LAST-MODIFIED:20191017T072840Z
UID:10001867-1577025000-1577032200@mairie-anduze.fr
SUMMARY:Loto de la Société de Chasse
DESCRIPTION:
URL:https://mairie-anduze.fr/event/loto-de-la-societe-de-chasse/
LOCATION:Espace Pélico\, rue Pélico\, 30140 Anduze
ATTACH;FMTTYPE=image/jpeg:https://mairie-anduze.fr/wp-content/uploads/2019/05/lotos.jpg
END:VEVENT
BEGIN:VEVENT
DTSTART;TZID=Europe/Paris:20191215T143000
DTEND;TZID=Europe/Paris:20191215T163000
DTSTAMP:20260421T165428
CREATED:20191017T072732Z
LAST-MODIFIED:20191017T072732Z
UID:10001865-1576420200-1576427400@mairie-anduze.fr
SUMMARY:Loto de la FNACA
DESCRIPTION:
URL:https://mairie-anduze.fr/event/loto-de-la-fnaca/
LOCATION:Espace Pélico\, rue Pélico\, 30140 Anduze
ATTACH;FMTTYPE=image/jpeg:https://mairie-anduze.fr/wp-content/uploads/2019/05/lotos.jpg
END:VEVENT
BEGIN:VEVENT
DTSTART;TZID=Europe/Paris:20191214T203000
DTEND;TZID=Europe/Paris:20191214T230000
DTSTAMP:20260421T165428
CREATED:20191128T151359Z
LAST-MODIFIED:20191128T151359Z
UID:10001839-1576355400-1576364400@mairie-anduze.fr
SUMMARY:Concert de Noël Gospel
DESCRIPTION:
URL:https://mairie-anduze.fr/event/concert-de-noel-gospel/
LOCATION:Espace Pélico\, rue Pélico\, 30140 Anduze
ATTACH;FMTTYPE=:
END:VEVENT
BEGIN:VEVENT
DTSTART;TZID=Europe/Paris:20191208T140000
DTEND;TZID=Europe/Paris:20191208T163000
DTSTAMP:20260421T165428
CREATED:20191017T072639Z
LAST-MODIFIED:20191017T072639Z
UID:10001864-1575813600-1575822600@mairie-anduze.fr
SUMMARY:Loto de la Croix Rouge
DESCRIPTION:
URL:https://mairie-anduze.fr/event/loto-de-la-croix-rouge/
LOCATION:Espace Pélico\, rue Pélico\, 30140 Anduze
ATTACH;FMTTYPE=image/jpeg:https://mairie-anduze.fr/wp-content/uploads/2019/05/lotos.jpg
END:VEVENT
BEGIN:VEVENT
DTSTART;TZID=Europe/Paris:20191130T100000
DTEND;TZID=Europe/Paris:20191201T190000
DTSTAMP:20260421T165428
CREATED:20191122T085822Z
LAST-MODIFIED:20191122T085822Z
UID:10001877-1575108000-1575226800@mairie-anduze.fr
SUMMARY:Marché: Santons et Artisanat
DESCRIPTION:
URL:https://mairie-anduze.fr/event/marche-santons-et-artisanat/
LOCATION:Espace Pélico\, rue Pélico\, 30140 Anduze
ATTACH;FMTTYPE=image/jpeg:https://mairie-anduze.fr/wp-content/uploads/2019/11/noel-santons-1.jpg
END:VEVENT
BEGIN:VEVENT
DTSTART;TZID=Europe/Paris:20191124T143000
DTEND;TZID=Europe/Paris:20191124T163000
DTSTAMP:20260421T165428
CREATED:20191017T072511Z
LAST-MODIFIED:20191017T072511Z
UID:10001862-1574605800-1574613000@mairie-anduze.fr
SUMMARY:Loto du Tennis Club
DESCRIPTION:
URL:https://mairie-anduze.fr/event/loto-du-tennis-club/
LOCATION:Espace Pélico\, rue Pélico\, 30140 Anduze
ATTACH;FMTTYPE=image/jpeg:https://mairie-anduze.fr/wp-content/uploads/2019/05/lotos.jpg
END:VEVENT
BEGIN:VEVENT
DTSTART;TZID=Europe/Paris:20191011T143000
DTEND;TZID=Europe/Paris:20191011T163000
DTSTAMP:20260421T165428
CREATED:20190823T140852Z
LAST-MODIFIED:20190823T140852Z
UID:10001441-1570804200-1570811400@mairie-anduze.fr
SUMMARY:Semaine bleue: Ciné-Débat
DESCRIPTION:  \nSynopsis : Annie\, Jean\, Claude\, Albert et Jeanne sont liés par une solide amitié depuis plus de 40 ans. Alors quand la mémoire flanche\, quand le cœur s’emballe et que le spectre de la maison de retraite pointe son nez\, ils se rebellent et décident de vivre tous ensemble. Le projet paraît fou mais même si la promiscuité dérange et réveille de vieux souvenirs\, une formidable aventure commence : celle de la communauté… à 75 ans ! \nActeurs Principaux : Guy Bedos\, Daniel Brûhl\, Géraldine Chaplin\, Jane Fonda\, Claude Rich\, Pierre Richard. \nCe débat permettra d’échanger sur toutes les questions que vous pouvez vous poser concernant comment bien vieillir tant au niveau physique\, psychologique et social.
URL:https://mairie-anduze.fr/event/cine-debat/
LOCATION:Espace Pélico\, rue Pélico\, 30140 Anduze
ATTACH;FMTTYPE=image/jpeg:https://mairie-anduze.fr/wp-content/uploads/2019/08/affiche-tousensemble-1.jpg
END:VEVENT
BEGIN:VEVENT
DTSTART;TZID=Europe/Paris:20191008T090000
DTEND;TZID=Europe/Paris:20191008T113000
DTSTAMP:20260421T165428
CREATED:20190918T071526Z
LAST-MODIFIED:20190918T071526Z
UID:10001450-1570525200-1570534200@mairie-anduze.fr
SUMMARY:Semaine bleue: Certificat d'études
DESCRIPTION:Le CCAS en collaboration avec le Club de la Porte des Cévennes\, organise pour la semaine bleue\, un test de connaissance inspiré de l’ancien certificat d’études. \nRendez-vous dans la salle du Club de la Porte des Cévennes dès 9h\, pour partager un café. \nÉpreuve: de 9h30 à 11h30. \nVous pourrez participer à ce moment de convivialité  et faire le point sur les connaissances qui ont souvent du mal à résister à l’usure du temps. \nAfin de clôturer cette belle aventure\, une cérémonie sera programmée salle du conseil de la mairie pour remettre à chaque candidat son certificat de participation et se retrouver autour du verre de l’amitié. \nInscriptions : Elisabeth Vallaeys 04 66 61 99 54   vallaeys-jc@wanadoo.fr
URL:https://mairie-anduze.fr/event/semaine-bleu-certificat-detudes/
LOCATION:Espace Pélico\, rue Pélico\, 30140 Anduze
ATTACH;FMTTYPE=image/jpeg:https://mairie-anduze.fr/wp-content/uploads/2019/09/semainebleu-1024x585-1.jpg
END:VEVENT
END:VCALENDAR