BEGIN:VCALENDAR
VERSION:2.0
PRODID:-//Ville d&#039;Anduze - ECPv6.15.20//NONSGML v1.0//EN
CALSCALE:GREGORIAN
METHOD:PUBLISH
X-WR-CALNAME:Ville d&#039;Anduze
X-ORIGINAL-URL:https://mairie-anduze.fr
X-WR-CALDESC:Évènements pour Ville d&#039;Anduze
REFRESH-INTERVAL;VALUE=DURATION:PT1H
X-Robots-Tag:noindex
X-PUBLISHED-TTL:PT1H
BEGIN:VTIMEZONE
TZID:Europe/Paris
BEGIN:DAYLIGHT
TZOFFSETFROM:+0100
TZOFFSETTO:+0200
TZNAME:CEST
DTSTART:20220327T010000
END:DAYLIGHT
BEGIN:STANDARD
TZOFFSETFROM:+0200
TZOFFSETTO:+0100
TZNAME:CET
DTSTART:20221030T010000
END:STANDARD
BEGIN:DAYLIGHT
TZOFFSETFROM:+0100
TZOFFSETTO:+0200
TZNAME:CEST
DTSTART:20230326T010000
END:DAYLIGHT
BEGIN:STANDARD
TZOFFSETFROM:+0200
TZOFFSETTO:+0100
TZNAME:CET
DTSTART:20231029T010000
END:STANDARD
BEGIN:DAYLIGHT
TZOFFSETFROM:+0100
TZOFFSETTO:+0200
TZNAME:CEST
DTSTART:20240331T010000
END:DAYLIGHT
BEGIN:STANDARD
TZOFFSETFROM:+0200
TZOFFSETTO:+0100
TZNAME:CET
DTSTART:20241027T010000
END:STANDARD
END:VTIMEZONE
BEGIN:VEVENT
DTSTART;TZID=Europe/Paris:20230127T183000
DTEND;TZID=Europe/Paris:20230127T183000
DTSTAMP:20260421T182246
CREATED:20230109T212015Z
LAST-MODIFIED:20230109T212016Z
UID:18230-1674844200-1674844200@mairie-anduze.fr
SUMMARY:Réunion de quartier "Est"
DESCRIPTION:La troisième d’une série de cinq\, cette réunion aura lieu dans le quartier Est de la ville. \n\n\n\nVenez rencontrer vos élus et vous exprimer. \n\n\n\nLe 27 janvier 2023 | 18h30 | École de musique Clara d’Anduze (4 route d’Alès) \n\n\n\nVous pouvez venir à cette réunion où que vous habitiez dans Anduze. \n\n\n\nLes élus vous présenteront les projets en cours et à venir. \n\n\n\nPuis vous pourrez échanger avec eux pendant un temps de questions / réponses.
URL:https://mairie-anduze.fr/event/reunion-de-quartier-est/
LOCATION:École de musique Clara d’Anduze • Site du conservatoire Maurice André de l’agglomération d’Alès\, 4 Route d’Anduze à Alès\, Anduze\, 30140\, France
ATTACH;FMTTYPE=image/jpeg:https://mairie-anduze.fr/wp-content/uploads/2022/11/illustration_reunion-de-quartier_3.jpg
END:VEVENT
END:VCALENDAR