BEGIN:VCALENDAR
VERSION:2.0
PRODID:-//Ville d&#039;Anduze - ECPv6.15.20//NONSGML v1.0//EN
CALSCALE:GREGORIAN
METHOD:PUBLISH
X-WR-CALNAME:Ville d&#039;Anduze
X-ORIGINAL-URL:https://mairie-anduze.fr
X-WR-CALDESC:Évènements pour Ville d&#039;Anduze
REFRESH-INTERVAL;VALUE=DURATION:PT1H
X-Robots-Tag:noindex
X-PUBLISHED-TTL:PT1H
BEGIN:VTIMEZONE
TZID:Europe/Paris
BEGIN:DAYLIGHT
TZOFFSETFROM:+0100
TZOFFSETTO:+0200
TZNAME:CEST
DTSTART:20180325T010000
END:DAYLIGHT
BEGIN:STANDARD
TZOFFSETFROM:+0200
TZOFFSETTO:+0100
TZNAME:CET
DTSTART:20181028T010000
END:STANDARD
BEGIN:DAYLIGHT
TZOFFSETFROM:+0100
TZOFFSETTO:+0200
TZNAME:CEST
DTSTART:20190331T010000
END:DAYLIGHT
BEGIN:STANDARD
TZOFFSETFROM:+0200
TZOFFSETTO:+0100
TZNAME:CET
DTSTART:20191027T010000
END:STANDARD
BEGIN:DAYLIGHT
TZOFFSETFROM:+0100
TZOFFSETTO:+0200
TZNAME:CEST
DTSTART:20200329T010000
END:DAYLIGHT
BEGIN:STANDARD
TZOFFSETFROM:+0200
TZOFFSETTO:+0100
TZNAME:CET
DTSTART:20201025T010000
END:STANDARD
END:VTIMEZONE
BEGIN:VEVENT
DTSTART;TZID=Europe/Paris:20190921T143000
DTEND;TZID=Europe/Paris:20190921T163000
DTSTAMP:20260421T171348
CREATED:20190911T113921Z
LAST-MODIFIED:20190911T113921Z
UID:1650-1569076200-1569083400@mairie-anduze.fr
SUMMARY:Quartier Libre
DESCRIPTION:En cas de pluie\, l’animation sera maintenue mais se déplacera à la salle Escartefigue (Espace Marcel Pagnol).
URL:https://mairie-anduze.fr/event/quartier-libre/
LOCATION:Parc des Cordeliers\, Parc des Cordeliers\, Anduze\, 30140
ATTACH;FMTTYPE=image/jpeg:https://mairie-anduze.fr/wp-content/uploads/2019/09/flyer-Quartier-Libre-21.09-1.jpg
END:VEVENT
END:VCALENDAR