BEGIN:VCALENDAR
VERSION:2.0
PRODID:-//Ville d&#039;Anduze - ECPv6.15.20//NONSGML v1.0//EN
CALSCALE:GREGORIAN
METHOD:PUBLISH
X-WR-CALNAME:Ville d&#039;Anduze
X-ORIGINAL-URL:https://mairie-anduze.fr
X-WR-CALDESC:Évènements pour Ville d&#039;Anduze
REFRESH-INTERVAL;VALUE=DURATION:PT1H
X-Robots-Tag:noindex
X-PUBLISHED-TTL:PT1H
BEGIN:VTIMEZONE
TZID:Europe/Paris
BEGIN:DAYLIGHT
TZOFFSETFROM:+0100
TZOFFSETTO:+0200
TZNAME:CEST
DTSTART:20220327T010000
END:DAYLIGHT
BEGIN:STANDARD
TZOFFSETFROM:+0200
TZOFFSETTO:+0100
TZNAME:CET
DTSTART:20221030T010000
END:STANDARD
BEGIN:DAYLIGHT
TZOFFSETFROM:+0100
TZOFFSETTO:+0200
TZNAME:CEST
DTSTART:20230326T010000
END:DAYLIGHT
BEGIN:STANDARD
TZOFFSETFROM:+0200
TZOFFSETTO:+0100
TZNAME:CET
DTSTART:20231029T010000
END:STANDARD
BEGIN:DAYLIGHT
TZOFFSETFROM:+0100
TZOFFSETTO:+0200
TZNAME:CEST
DTSTART:20240331T010000
END:DAYLIGHT
BEGIN:STANDARD
TZOFFSETFROM:+0200
TZOFFSETTO:+0100
TZNAME:CET
DTSTART:20241027T010000
END:STANDARD
END:VTIMEZONE
BEGIN:VEVENT
DTSTART;TZID=Europe/Paris:20230707T190000
DTEND;TZID=Europe/Paris:20230707T190000
DTSTAMP:20260419T161242
CREATED:20230626T121118Z
LAST-MODIFIED:20230626T122142Z
UID:20186-1688756400-1688756400@mairie-anduze.fr
SUMMARY:Plaids • sieste musicale
DESCRIPTION:LA COMPAGNIE ARTIFIS PROPOSE \n\n\n\nPLAIDS : LA RÉPONSE MUSICALE À NOTRE INSATIABLE BESOIN DE CÂLINS \n\n\n\n7 JUILLET 2023 | 19H | PARC DES CORDELIERS \n\n\n\nGRATUIT | TOUT PUBLIC \n\n\n\nDans des canapés ou dans l’herbe\, le temps d’une rêverie Plaids propose aux flâneurs.es un temps dilaté pour se ré-approprier l’espace qui les environne\, et y renouveler leur regard et leur écoute. \n\n\n\nCe spectacle s’articule autour d’un collectage et d’un ré-arrangement de chansons d’horizons différents\, traditionnelles ou plus contemporaines. Nous chantons à trois voix et en cinq langues\, avec une douceur parfois légère ou plus mélancolique accompagné d’une harpe\, de flûtes\, ou de percussions.
URL:https://mairie-anduze.fr/event/plaids-sieste-musicale/
LOCATION:Parc des Cordeliers\, Parc des Cordeliers\, Anduze\, 30140
CATEGORIES:Culture
ATTACH;FMTTYPE=image/jpeg:https://mairie-anduze.fr/wp-content/uploads/2023/06/20230707_cie-artifis_sieste-musicale_illustration-scaled.jpg
END:VEVENT
END:VCALENDAR