BEGIN:VCALENDAR
VERSION:2.0
PRODID:-//Ville d&#039;Anduze - ECPv6.15.20//NONSGML v1.0//EN
CALSCALE:GREGORIAN
METHOD:PUBLISH
X-WR-CALNAME:Ville d&#039;Anduze
X-ORIGINAL-URL:https://mairie-anduze.fr
X-WR-CALDESC:Évènements pour Ville d&#039;Anduze
REFRESH-INTERVAL;VALUE=DURATION:PT1H
X-Robots-Tag:noindex
X-PUBLISHED-TTL:PT1H
BEGIN:VTIMEZONE
TZID:Europe/Paris
BEGIN:DAYLIGHT
TZOFFSETFROM:+0100
TZOFFSETTO:+0200
TZNAME:CEST
DTSTART:20220327T010000
END:DAYLIGHT
BEGIN:STANDARD
TZOFFSETFROM:+0200
TZOFFSETTO:+0100
TZNAME:CET
DTSTART:20221030T010000
END:STANDARD
BEGIN:DAYLIGHT
TZOFFSETFROM:+0100
TZOFFSETTO:+0200
TZNAME:CEST
DTSTART:20230326T010000
END:DAYLIGHT
BEGIN:STANDARD
TZOFFSETFROM:+0200
TZOFFSETTO:+0100
TZNAME:CET
DTSTART:20231029T010000
END:STANDARD
BEGIN:DAYLIGHT
TZOFFSETFROM:+0100
TZOFFSETTO:+0200
TZNAME:CEST
DTSTART:20240331T010000
END:DAYLIGHT
BEGIN:STANDARD
TZOFFSETFROM:+0200
TZOFFSETTO:+0100
TZNAME:CET
DTSTART:20241027T010000
END:STANDARD
END:VTIMEZONE
BEGIN:VEVENT
DTSTART;TZID=Europe/Paris:20230718T103000
DTEND;TZID=Europe/Paris:20230718T103000
DTSTAMP:20260419T161052
CREATED:20230704T180915Z
LAST-MODIFIED:20230704T181125Z
UID:20394-1689676200-1689676200@mairie-anduze.fr
SUMMARY:Musikaya
DESCRIPTION:Venez écouter Musikaya\, qui chante les aventures de la superhéroïne Kaya Dove\, inspirées des romans de science-fiction de Pierre Lassalle : un moment de beauté\, d’amour et d’espérance dont nous avons tous besoin ! \n\n\n\nBienvenue à tous pour cette expérience artistique inédite\, en cette bien jolie cité d’Anduze ! \n\n\n\nAvec Anne Cariou\, alias FEU D’OR
URL:https://mairie-anduze.fr/event/musikaya/
LOCATION:Place Couverte\, Place Couverte\, ANDUZE\, 30140
CATEGORIES:Culture
ATTACH;FMTTYPE=image/jpeg:https://mairie-anduze.fr/wp-content/uploads/2023/07/20230718_anne-cariou_illustration-scaled.jpg
END:VEVENT
END:VCALENDAR