BEGIN:VCALENDAR
VERSION:2.0
PRODID:-//Ville d&#039;Anduze - ECPv6.15.20//NONSGML v1.0//EN
CALSCALE:GREGORIAN
METHOD:PUBLISH
X-WR-CALNAME:Ville d&#039;Anduze
X-ORIGINAL-URL:https://mairie-anduze.fr
X-WR-CALDESC:Évènements pour Ville d&#039;Anduze
REFRESH-INTERVAL;VALUE=DURATION:PT1H
X-Robots-Tag:noindex
X-PUBLISHED-TTL:PT1H
BEGIN:VTIMEZONE
TZID:Europe/Paris
BEGIN:DAYLIGHT
TZOFFSETFROM:+0100
TZOFFSETTO:+0200
TZNAME:CEST
DTSTART:20250330T010000
END:DAYLIGHT
BEGIN:STANDARD
TZOFFSETFROM:+0200
TZOFFSETTO:+0100
TZNAME:CET
DTSTART:20251026T010000
END:STANDARD
BEGIN:DAYLIGHT
TZOFFSETFROM:+0100
TZOFFSETTO:+0200
TZNAME:CEST
DTSTART:20260329T010000
END:DAYLIGHT
BEGIN:STANDARD
TZOFFSETFROM:+0200
TZOFFSETTO:+0100
TZNAME:CET
DTSTART:20261025T010000
END:STANDARD
BEGIN:DAYLIGHT
TZOFFSETFROM:+0100
TZOFFSETTO:+0200
TZNAME:CEST
DTSTART:20270328T010000
END:DAYLIGHT
BEGIN:STANDARD
TZOFFSETFROM:+0200
TZOFFSETTO:+0100
TZNAME:CET
DTSTART:20271031T010000
END:STANDARD
END:VTIMEZONE
BEGIN:VEVENT
DTSTART;TZID=Europe/Paris:20260308T140000
DTEND;TZID=Europe/Paris:20260308T170000
DTSTAMP:20260419T143135
CREATED:20260302T140641Z
LAST-MODIFIED:20260303T151929Z
UID:22314-1772978400-1772989200@mairie-anduze.fr
SUMMARY:LOTO DE LA PAROISSE CATHOLIQUE
DESCRIPTION:La Paroisse catholique organise un loto dimanche 8 mars de 14h à 17h Salle Rohan. \n\n\n\nENTREE GRATUITE
URL:https://mairie-anduze.fr/event/loto-paroisse-catholique/
LOCATION:Salle Rohan • Espace Pélico\, Rue Pélico\, Anduze\, 30140\, France
ATTACH;FMTTYPE=image/jpeg:https://mairie-anduze.fr/wp-content/uploads/2019/05/lotos.jpg
END:VEVENT
END:VCALENDAR