BEGIN:VCALENDAR
VERSION:2.0
PRODID:-//Ville d&#039;Anduze - ECPv6.15.20//NONSGML v1.0//EN
CALSCALE:GREGORIAN
METHOD:PUBLISH
X-WR-CALNAME:Ville d&#039;Anduze
X-ORIGINAL-URL:https://mairie-anduze.fr
X-WR-CALDESC:Évènements pour Ville d&#039;Anduze
REFRESH-INTERVAL;VALUE=DURATION:PT1H
X-Robots-Tag:noindex
X-PUBLISHED-TTL:PT1H
BEGIN:VTIMEZONE
TZID:Europe/Paris
BEGIN:DAYLIGHT
TZOFFSETFROM:+0100
TZOFFSETTO:+0200
TZNAME:CEST
DTSTART:20230326T010000
END:DAYLIGHT
BEGIN:STANDARD
TZOFFSETFROM:+0200
TZOFFSETTO:+0100
TZNAME:CET
DTSTART:20231029T010000
END:STANDARD
BEGIN:DAYLIGHT
TZOFFSETFROM:+0100
TZOFFSETTO:+0200
TZNAME:CEST
DTSTART:20240331T010000
END:DAYLIGHT
BEGIN:STANDARD
TZOFFSETFROM:+0200
TZOFFSETTO:+0100
TZNAME:CET
DTSTART:20241027T010000
END:STANDARD
BEGIN:DAYLIGHT
TZOFFSETFROM:+0100
TZOFFSETTO:+0200
TZNAME:CEST
DTSTART:20250330T010000
END:DAYLIGHT
BEGIN:STANDARD
TZOFFSETFROM:+0200
TZOFFSETTO:+0100
TZNAME:CET
DTSTART:20251026T010000
END:STANDARD
END:VTIMEZONE
BEGIN:VEVENT
DTSTART;TZID=Europe/Paris:20240303T140000
DTEND;TZID=Europe/Paris:20240303T170000
DTSTAMP:20260423T120212
CREATED:20240118T092342Z
LAST-MODIFIED:20240118T092343Z
UID:22338-1709474400-1709485200@mairie-anduze.fr
SUMMARY:LOTO DE L'ACNA
DESCRIPTION:L’ACNA  (Association Course Nature Anduze) organise un loto le dimanche 3 mars de 14h à 17h\, Salle Rohan \n\n\n\nENTREE GRATUITE \n\n\n\nRenseignements auprès de Mr Claudy Benoît au  04 66 61 91 40 ou par mail benoit.claudy@yahoo.fr 
URL:https://mairie-anduze.fr/event/loto-de-lacna-2/
LOCATION:Salle Rohan • Espace Pélico\, Rue Pélico\, Anduze\, 30140\, France
ATTACH;FMTTYPE=image/jpeg:https://mairie-anduze.fr/wp-content/uploads/2021/05/illustration_logo_acna.jpg
END:VEVENT
END:VCALENDAR