BEGIN:VCALENDAR
VERSION:2.0
PRODID:-//Ville d&#039;Anduze - ECPv6.15.20//NONSGML v1.0//EN
CALSCALE:GREGORIAN
METHOD:PUBLISH
X-WR-CALNAME:Ville d&#039;Anduze
X-ORIGINAL-URL:https://mairie-anduze.fr
X-WR-CALDESC:Évènements pour Ville d&#039;Anduze
REFRESH-INTERVAL;VALUE=DURATION:PT1H
X-Robots-Tag:noindex
X-PUBLISHED-TTL:PT1H
BEGIN:VTIMEZONE
TZID:Europe/Paris
BEGIN:DAYLIGHT
TZOFFSETFROM:+0100
TZOFFSETTO:+0200
TZNAME:CEST
DTSTART:20230326T010000
END:DAYLIGHT
BEGIN:STANDARD
TZOFFSETFROM:+0200
TZOFFSETTO:+0100
TZNAME:CET
DTSTART:20231029T010000
END:STANDARD
BEGIN:DAYLIGHT
TZOFFSETFROM:+0100
TZOFFSETTO:+0200
TZNAME:CEST
DTSTART:20240331T010000
END:DAYLIGHT
BEGIN:STANDARD
TZOFFSETFROM:+0200
TZOFFSETTO:+0100
TZNAME:CET
DTSTART:20241027T010000
END:STANDARD
BEGIN:DAYLIGHT
TZOFFSETFROM:+0100
TZOFFSETTO:+0200
TZNAME:CEST
DTSTART:20250330T010000
END:DAYLIGHT
BEGIN:STANDARD
TZOFFSETFROM:+0200
TZOFFSETTO:+0100
TZNAME:CET
DTSTART:20251026T010000
END:STANDARD
END:VTIMEZONE
BEGIN:VEVENT
DTSTART;TZID=Europe/Paris:20240219T073000
DTEND;TZID=Europe/Paris:20240219T183000
DTSTAMP:20260420T140952
CREATED:20240202T125434Z
LAST-MODIFIED:20240202T152715Z
UID:10002745-1708327800-1708367400@mairie-anduze.fr
SUMMARY:LES VACANCES DES P'TITS POTES SEMAINE 2
DESCRIPTION:Les P’tits Potes (l’accueil de loisirs d’Anduze) bougent avec « Croc ton sport » pendant la 2ème semaine des vacances de février \n\n\n\nSUR INSCRIPTION \n\n\n\nRenseignements au 04 66 60 17 09 / 06 30 65 71 22 ou par mail alsh@mairie-anduze.fr \n\n\n\nAu programme: La Ferme aux crocodiles\, de l’escalade\, des jeux \n\n\n\nLundi: Jeux des p’tits potes \n\n\n\nMardi: Altissimo (groupe 1) \n\n\n\nMercredi: Ferme aux crocodiles \n\n\n\nJeudi: Altissimo (groupe 2) \n\n\n\nVendredi: Jeux des p’tits potes
URL:https://mairie-anduze.fr/event/les-vacances-des-ptits-potes-semaine-2/2024-02-19/
LOCATION:La Maison Rose\, 43 avenue du Pasteur Rollin\, Anduze\, 30140\, France
ATTACH;FMTTYPE=image/png:https://mairie-anduze.fr/wp-content/uploads/2024/02/Flyer-fevrier-2024-recto.png
END:VEVENT
END:VCALENDAR