BEGIN:VCALENDAR
VERSION:2.0
PRODID:-//Ville d&#039;Anduze - ECPv6.15.20//NONSGML v1.0//EN
CALSCALE:GREGORIAN
METHOD:PUBLISH
X-WR-CALNAME:Ville d&#039;Anduze
X-ORIGINAL-URL:https://mairie-anduze.fr
X-WR-CALDESC:Évènements pour Ville d&#039;Anduze
REFRESH-INTERVAL;VALUE=DURATION:PT1H
X-Robots-Tag:noindex
X-PUBLISHED-TTL:PT1H
BEGIN:VTIMEZONE
TZID:Europe/Paris
BEGIN:DAYLIGHT
TZOFFSETFROM:+0100
TZOFFSETTO:+0200
TZNAME:CEST
DTSTART:20190331T010000
END:DAYLIGHT
BEGIN:STANDARD
TZOFFSETFROM:+0200
TZOFFSETTO:+0100
TZNAME:CET
DTSTART:20191027T010000
END:STANDARD
BEGIN:DAYLIGHT
TZOFFSETFROM:+0100
TZOFFSETTO:+0200
TZNAME:CEST
DTSTART:20200329T010000
END:DAYLIGHT
BEGIN:STANDARD
TZOFFSETFROM:+0200
TZOFFSETTO:+0100
TZNAME:CET
DTSTART:20201025T010000
END:STANDARD
BEGIN:DAYLIGHT
TZOFFSETFROM:+0100
TZOFFSETTO:+0200
TZNAME:CEST
DTSTART:20210328T010000
END:DAYLIGHT
BEGIN:STANDARD
TZOFFSETFROM:+0200
TZOFFSETTO:+0100
TZNAME:CET
DTSTART:20211031T010000
END:STANDARD
END:VTIMEZONE
BEGIN:VEVENT
DTSTART;VALUE=DATE:20200820
DTEND;VALUE=DATE:20200821
DTSTAMP:20260422T133834
CREATED:20200817T101751Z
LAST-MODIFIED:20200817T101751Z
UID:3627-1597881600-1597967999@mairie-anduze.fr
SUMMARY:Le Chant des Sirènes
DESCRIPTION:Dans le cadre de l’été culturel et des vacances apprenantes\, la mairie d’Anduze invite la compagnie Mécanique Vivante et son prestigieux « Chant des Sirènes ». \nPerché sur deux locomotrices bien dressées aux couleurs d’une mécanique excentrique\, l’orchestre des Sirènes musicales vous entraine dans son sillage comme le flûtiste de la légende.\nUne parade polyphonique qui caresse le pavé\, fouette les façades et joue avec la ville dans une cadence soutenue par des locomotrices qui dansent des claquettes à air comprimé. \n  \nUn univers artistique à découvrir\ndu Parc des Cordeliers aux rives du Gardon\nle jeudi 20 août à partir de 20H30.
URL:https://mairie-anduze.fr/event/le-chant-des-sirenes/
LOCATION:Anduze
ATTACH;FMTTYPE=image/jpeg:https://mairie-anduze.fr/wp-content/uploads/2020/08/20200820_mecanique_vivante_flyer.jpg
END:VEVENT
END:VCALENDAR