BEGIN:VCALENDAR
VERSION:2.0
PRODID:-//Ville d&#039;Anduze - ECPv6.15.20//NONSGML v1.0//EN
CALSCALE:GREGORIAN
METHOD:PUBLISH
X-WR-CALNAME:Ville d&#039;Anduze
X-ORIGINAL-URL:https://mairie-anduze.fr
X-WR-CALDESC:Évènements pour Ville d&#039;Anduze
REFRESH-INTERVAL;VALUE=DURATION:PT1H
X-Robots-Tag:noindex
X-PUBLISHED-TTL:PT1H
BEGIN:VTIMEZONE
TZID:Europe/Paris
BEGIN:DAYLIGHT
TZOFFSETFROM:+0100
TZOFFSETTO:+0200
TZNAME:CEST
DTSTART:20240331T010000
END:DAYLIGHT
BEGIN:STANDARD
TZOFFSETFROM:+0200
TZOFFSETTO:+0100
TZNAME:CET
DTSTART:20241027T010000
END:STANDARD
BEGIN:DAYLIGHT
TZOFFSETFROM:+0100
TZOFFSETTO:+0200
TZNAME:CEST
DTSTART:20250330T010000
END:DAYLIGHT
BEGIN:STANDARD
TZOFFSETFROM:+0200
TZOFFSETTO:+0100
TZNAME:CET
DTSTART:20251026T010000
END:STANDARD
BEGIN:DAYLIGHT
TZOFFSETFROM:+0100
TZOFFSETTO:+0200
TZNAME:CEST
DTSTART:20260329T010000
END:DAYLIGHT
BEGIN:STANDARD
TZOFFSETFROM:+0200
TZOFFSETTO:+0100
TZNAME:CET
DTSTART:20261025T010000
END:STANDARD
END:VTIMEZONE
BEGIN:VEVENT
DTSTART;TZID=Europe/Paris:20251005T100000
DTEND;TZID=Europe/Paris:20251005T180000
DTSTAMP:20260419T150357
CREATED:20250908T141505Z
LAST-MODIFIED:20251002T153252Z
UID:30159-1759658400-1759687200@mairie-anduze.fr
SUMMARY:Fête de la soupe et de la chataîgne
DESCRIPTION:Dimanche 5 octobre\, l’UCIA organise la fête de la Soupe et de la Chataigne \n\n\n\nFête de la soupe et de la chataîgne 2025\n\n\n\nVente de produits locaux\, animations etc… \n\n\n\nvers midi \, dégustation des soupes préparées par les associations\, restaurateurs particuliers\, stands répartis dans le centre ville \n\n\n\nAchetez un bol de dégustation (ceux au profit de l’UCIA) puis allez de stand en stand pour goûter et votez pour votre préférée
URL:https://mairie-anduze.fr/event/fete-de-la-soupe-et-de-la-chataigne-4/
ATTACH;FMTTYPE=image/jpeg:https://mairie-anduze.fr/wp-content/uploads/2025/09/vignette-fete-de-la-soupe-.jpg
END:VEVENT
END:VCALENDAR