BEGIN:VCALENDAR
VERSION:2.0
PRODID:-//Ville d&#039;Anduze - ECPv6.15.20//NONSGML v1.0//EN
CALSCALE:GREGORIAN
METHOD:PUBLISH
X-WR-CALNAME:Ville d&#039;Anduze
X-ORIGINAL-URL:https://mairie-anduze.fr
X-WR-CALDESC:Évènements pour Ville d&#039;Anduze
REFRESH-INTERVAL;VALUE=DURATION:PT1H
X-Robots-Tag:noindex
X-PUBLISHED-TTL:PT1H
BEGIN:VTIMEZONE
TZID:Europe/Paris
BEGIN:DAYLIGHT
TZOFFSETFROM:+0100
TZOFFSETTO:+0200
TZNAME:CEST
DTSTART:20190331T010000
END:DAYLIGHT
BEGIN:STANDARD
TZOFFSETFROM:+0200
TZOFFSETTO:+0100
TZNAME:CET
DTSTART:20191027T010000
END:STANDARD
BEGIN:DAYLIGHT
TZOFFSETFROM:+0100
TZOFFSETTO:+0200
TZNAME:CEST
DTSTART:20200329T010000
END:DAYLIGHT
BEGIN:STANDARD
TZOFFSETFROM:+0200
TZOFFSETTO:+0100
TZNAME:CET
DTSTART:20201025T010000
END:STANDARD
BEGIN:DAYLIGHT
TZOFFSETFROM:+0100
TZOFFSETTO:+0200
TZNAME:CEST
DTSTART:20210328T010000
END:DAYLIGHT
BEGIN:STANDARD
TZOFFSETFROM:+0200
TZOFFSETTO:+0100
TZNAME:CET
DTSTART:20211031T010000
END:STANDARD
END:VTIMEZONE
BEGIN:VEVENT
DTSTART;VALUE=DATE:20200808
DTEND;VALUE=DATE:20200811
DTSTAMP:20260422T121305
CREATED:20200728T115811Z
LAST-MODIFIED:20200728T115811Z
UID:3244-1596844800-1597103999@mairie-anduze.fr
SUMMARY:Festival de la Céramique 2020 • 16ième édition
DESCRIPTION:L’association Planète Terre organise la 16ème édition du Festival de la Céramique d’Anduze. Cette grande fête de la Terre se renouvelle chaque année pour proposer à ses visiteurs toujours plus nombreux\, les multiples facettes de la création céramique.\nMarché avec une sélection de 55 céramistes européens regroupant toutes les techniques de la céramique\, ateliers de sculpture participatif\, ateliers in situ\, démonstrations\, réalisations de jarre… seront au programme du festival qui tient  également à mettre en avant la jeune génération ! \nPoint d’orgue du festival le samedi soir avec la Grande Cuisson !\nMarie-Agnès BRANCHY va proposer une grande cuisson de pièce en soirée. Une grande sculpture de 1m40 sera cuite dans un four Carapace dont la cheminée atteint les 2m30. \nTéléchargez le programme \nBuvette ombragée et petite restauration
URL:https://mairie-anduze.fr/event/festival-de-la-ceramique-2020-16ieme-edition/
LOCATION:Parc des Cordeliers\, Parc des Cordeliers\, Anduze\, 30140
ATTACH;FMTTYPE=image/jpeg:https://mairie-anduze.fr/wp-content/uploads/2020/07/202008_festival_ceramique_vignette.jpg
END:VEVENT
END:VCALENDAR