BEGIN:VCALENDAR
VERSION:2.0
PRODID:-//Ville d&#039;Anduze - ECPv6.15.20//NONSGML v1.0//EN
CALSCALE:GREGORIAN
METHOD:PUBLISH
X-WR-CALNAME:Ville d&#039;Anduze
X-ORIGINAL-URL:https://mairie-anduze.fr
X-WR-CALDESC:Évènements pour Ville d&#039;Anduze
REFRESH-INTERVAL;VALUE=DURATION:PT1H
X-Robots-Tag:noindex
X-PUBLISHED-TTL:PT1H
BEGIN:VTIMEZONE
TZID:Europe/Paris
BEGIN:DAYLIGHT
TZOFFSETFROM:+0100
TZOFFSETTO:+0200
TZNAME:CEST
DTSTART:20250330T010000
END:DAYLIGHT
BEGIN:STANDARD
TZOFFSETFROM:+0200
TZOFFSETTO:+0100
TZNAME:CET
DTSTART:20251026T010000
END:STANDARD
BEGIN:DAYLIGHT
TZOFFSETFROM:+0100
TZOFFSETTO:+0200
TZNAME:CEST
DTSTART:20260329T010000
END:DAYLIGHT
BEGIN:STANDARD
TZOFFSETFROM:+0200
TZOFFSETTO:+0100
TZNAME:CET
DTSTART:20261025T010000
END:STANDARD
BEGIN:DAYLIGHT
TZOFFSETFROM:+0100
TZOFFSETTO:+0200
TZNAME:CEST
DTSTART:20270328T010000
END:DAYLIGHT
BEGIN:STANDARD
TZOFFSETFROM:+0200
TZOFFSETTO:+0100
TZNAME:CET
DTSTART:20271031T010000
END:STANDARD
END:VTIMEZONE
BEGIN:VEVENT
DTSTART;TZID=Europe/Paris:20260503T140000
DTEND;TZID=Europe/Paris:20260503T200000
DTSTAMP:20260421T153553
CREATED:20260421T091534Z
LAST-MODIFIED:20260421T091535Z
UID:32466-1777816800-1777838400@mairie-anduze.fr
SUMMARY:Festival AVeC'envie\, le 3 mai\, parc des cordeliers
DESCRIPTION:Festival AVeC’envie\, le 3 mai\, parc des cordeliers\n\n\n\n\n\nFestival AVeC’envie ! \n\n\n\nAnduze à l’envers – les années impaires\n\n\n\nUn festival pluridisciplinaire avec une programmation riche et diversifiée dans le parc des Cordeliers d’Anduze. Au programme\, des ateliers\, animations\, déambulations\, spectacles… avec des artistes reconnus\, des créations et des performances in situ… le tout en accès libre et AVeC’envie ! \n\n\n\nProchaine édition le 3 mai 2025
URL:https://mairie-anduze.fr/event/festival-avecenvie-le-3-mai-parc-des-cordeliers/
CATEGORIES:Culture
ATTACH;FMTTYPE=image/png:https://mairie-anduze.fr/wp-content/uploads/2026/04/Capture-decran-2026-04-21-111439.png
END:VEVENT
END:VCALENDAR