BEGIN:VCALENDAR
VERSION:2.0
PRODID:-//Ville d&#039;Anduze - ECPv6.15.20//NONSGML v1.0//EN
CALSCALE:GREGORIAN
METHOD:PUBLISH
X-WR-CALNAME:Ville d&#039;Anduze
X-ORIGINAL-URL:https://mairie-anduze.fr
X-WR-CALDESC:Évènements pour Ville d&#039;Anduze
REFRESH-INTERVAL;VALUE=DURATION:PT1H
X-Robots-Tag:noindex
X-PUBLISHED-TTL:PT1H
BEGIN:VTIMEZONE
TZID:Europe/Paris
BEGIN:DAYLIGHT
TZOFFSETFROM:+0100
TZOFFSETTO:+0200
TZNAME:CEST
DTSTART:20220327T010000
END:DAYLIGHT
BEGIN:STANDARD
TZOFFSETFROM:+0200
TZOFFSETTO:+0100
TZNAME:CET
DTSTART:20221030T010000
END:STANDARD
BEGIN:DAYLIGHT
TZOFFSETFROM:+0100
TZOFFSETTO:+0200
TZNAME:CEST
DTSTART:20230326T010000
END:DAYLIGHT
BEGIN:STANDARD
TZOFFSETFROM:+0200
TZOFFSETTO:+0100
TZNAME:CET
DTSTART:20231029T010000
END:STANDARD
BEGIN:DAYLIGHT
TZOFFSETFROM:+0100
TZOFFSETTO:+0200
TZNAME:CEST
DTSTART:20240331T010000
END:DAYLIGHT
BEGIN:STANDARD
TZOFFSETFROM:+0200
TZOFFSETTO:+0100
TZNAME:CET
DTSTART:20241027T010000
END:STANDARD
END:VTIMEZONE
BEGIN:VEVENT
DTSTART;TZID=Europe/Paris:20230708T000000
DTEND;TZID=Europe/Paris:20230718T235959
DTSTAMP:20260419T175222
CREATED:20230505T160052Z
LAST-MODIFIED:20230705T021611Z
UID:19688-1688774400-1689724799@mairie-anduze.fr
SUMMARY:Expo • Brigitte Delval
DESCRIPTION:QUAND L’INVISIBLE DEVIENT VISIBLE ! \n\n\n\n8 – 18 JUILLET | SALLE VOÛTÉE | 10H – 18H30  \n\n\n\n\n\n\n\n\n\nFace à ces images\, que percevons-nous ? Est-ce la vue d’un segment de planète inconnue ? Est-ce unpersonnage ? Un animal ?Qu’est-ce que notre cerveau nous dessine ?Matière solide\, gazeuse ou liquide\, l’eau nous offre des sensations corporelles et visuelles.Elle nous entraîne vers nos origines archaïques\, là où résident nos secrets les plus intimes. Elle nous interroge sur le mystère de l’apparition du vivant sur terre. \n\n\n\nSi notre vue pouvait enregistrer le mouvement à pleine vitesse\, elle discernerait la matière liquide sous une forme qui nous est inconnue !Où se situe le réel ? Ce qui exclut toute chimère\, toute illusion\, toute création ? Y-a-t-il une face cachée du réel que nous ne voyons pas ?Est-ce que ce que l’on voit\, comme on le voit\, est réel ? \n\n\n\nPhotographe depuis 1970\, je me suis d’abord intéressée aux scènes de rue\, puis à la macro\, ensuite aux portraits\, à la nature\, et enfin je conceptualise autour d’un thème\, selon mon inspiration. \n\n\n\nContact : 06 62 05 51 45 – brigitte.delval0893@orange.fr \n\n\n\nExpositions : Paris – Pré Saint Gervais (93)\, Maisse (77)\, Château-Landon (77)\, Moret-sur-Loing (77)\, Fontainebleau (77)\, Alès (30)\, Massillargues (30)
URL:https://mairie-anduze.fr/event/expo-brigitte-delval/
LOCATION:Salle Voûtée • Espace Pélico\, rue Pélico\, 30140 Anduze
CATEGORIES:Culture
ATTACH;FMTTYPE=image/jpeg:https://mairie-anduze.fr/wp-content/uploads/2023/05/20230708_brigitte-delval_0_illustration.jpg
END:VEVENT
END:VCALENDAR