BEGIN:VCALENDAR
VERSION:2.0
PRODID:-//Ville d&#039;Anduze - ECPv6.15.20//NONSGML v1.0//EN
CALSCALE:GREGORIAN
METHOD:PUBLISH
X-WR-CALNAME:Ville d&#039;Anduze
X-ORIGINAL-URL:https://mairie-anduze.fr
X-WR-CALDESC:Évènements pour Ville d&#039;Anduze
REFRESH-INTERVAL;VALUE=DURATION:PT1H
X-Robots-Tag:noindex
X-PUBLISHED-TTL:PT1H
BEGIN:VTIMEZONE
TZID:Europe/Paris
BEGIN:DAYLIGHT
TZOFFSETFROM:+0100
TZOFFSETTO:+0200
TZNAME:CEST
DTSTART:20220327T010000
END:DAYLIGHT
BEGIN:STANDARD
TZOFFSETFROM:+0200
TZOFFSETTO:+0100
TZNAME:CET
DTSTART:20221030T010000
END:STANDARD
BEGIN:DAYLIGHT
TZOFFSETFROM:+0100
TZOFFSETTO:+0200
TZNAME:CEST
DTSTART:20230326T010000
END:DAYLIGHT
BEGIN:STANDARD
TZOFFSETFROM:+0200
TZOFFSETTO:+0100
TZNAME:CET
DTSTART:20231029T010000
END:STANDARD
BEGIN:DAYLIGHT
TZOFFSETFROM:+0100
TZOFFSETTO:+0200
TZNAME:CEST
DTSTART:20240331T010000
END:DAYLIGHT
BEGIN:STANDARD
TZOFFSETFROM:+0200
TZOFFSETTO:+0100
TZNAME:CET
DTSTART:20241027T010000
END:STANDARD
END:VTIMEZONE
BEGIN:VEVENT
DTSTART;TZID=Europe/Paris:20231128T183000
DTEND;TZID=Europe/Paris:20231128T183000
DTSTAMP:20260421T210504
CREATED:20231117T100919Z
LAST-MODIFIED:20231125T152646Z
UID:21786-1701196200-1701196200@mairie-anduze.fr
SUMMARY:Concert • Circus et boule de gomme
DESCRIPTION:Le Conservatoire à rayonnement intercommunal Maurice André d’Alès Agglomération \n\n\n\npropose \n\n\n\n\n\nCIRCUS ET BOULE DE GOMME \n\n\n\nAdaptation du conte musical par l’école André Clavel d’Anduze \n\n\n\nMAR 28 NOVEMBRE 2023 | 18H30 \n\n\n\nSalle Rohan – Espace Pélico \n\n\n\nENTRÉE LIBRE \n\n\n\nAvec les classes DU CP au CM1 et la participation des professeurs du Conservatoire\, site Clara d’Anduze. Sous la direction de : Mathilde Bonjean.
URL:https://mairie-anduze.fr/event/concert-le-violon-au-fil-des-saisons/
LOCATION:Salle Rohan • Espace Pélico\, Rue Pélico\, Anduze\, 30140\, France
ATTACH;FMTTYPE=image/jpeg:https://mairie-anduze.fr/wp-content/uploads/2023/11/20231128_conservatoire_circus-et-boule-de-gomme_illustration-scaled.jpg
END:VEVENT
END:VCALENDAR