BEGIN:VCALENDAR
VERSION:2.0
PRODID:-//Ville d&#039;Anduze - ECPv6.15.20//NONSGML v1.0//EN
CALSCALE:GREGORIAN
METHOD:PUBLISH
X-WR-CALNAME:Ville d&#039;Anduze
X-ORIGINAL-URL:https://mairie-anduze.fr
X-WR-CALDESC:Évènements pour Ville d&#039;Anduze
REFRESH-INTERVAL;VALUE=DURATION:PT1H
X-Robots-Tag:noindex
X-PUBLISHED-TTL:PT1H
BEGIN:VTIMEZONE
TZID:Europe/Paris
BEGIN:DAYLIGHT
TZOFFSETFROM:+0100
TZOFFSETTO:+0200
TZNAME:CEST
DTSTART:20250330T010000
END:DAYLIGHT
BEGIN:STANDARD
TZOFFSETFROM:+0200
TZOFFSETTO:+0100
TZNAME:CET
DTSTART:20251026T010000
END:STANDARD
BEGIN:DAYLIGHT
TZOFFSETFROM:+0100
TZOFFSETTO:+0200
TZNAME:CEST
DTSTART:20260329T010000
END:DAYLIGHT
BEGIN:STANDARD
TZOFFSETFROM:+0200
TZOFFSETTO:+0100
TZNAME:CET
DTSTART:20261025T010000
END:STANDARD
BEGIN:DAYLIGHT
TZOFFSETFROM:+0100
TZOFFSETTO:+0200
TZNAME:CEST
DTSTART:20270328T010000
END:DAYLIGHT
BEGIN:STANDARD
TZOFFSETFROM:+0200
TZOFFSETTO:+0100
TZNAME:CET
DTSTART:20271031T010000
END:STANDARD
END:VTIMEZONE
BEGIN:VEVENT
DTSTART;TZID=Europe/Paris:20260307T203000
DTEND;TZID=Europe/Paris:20260307T223000
DTSTAMP:20260421T114824
CREATED:20260109T080159Z
LAST-MODIFIED:20260109T080200Z
UID:31475-1772915400-1772922600@mairie-anduze.fr
SUMMARY:Cinéma : MUGANGA celui qui soigne
DESCRIPTION:Cinéma : MUGANGA celui qui soigne\n\n\n\nComme tous les 1ers samedis du mois depuis 2022\, \n\n\n\nle samedi 7 mars à 20h30\, \n\n\n\n Salle des Casernes (Pélico 1er étage) \n\n\n\nséance de cinéma assurée par Cinéco avec l’aide de bénévoles \n\n\n\nCinéma : MUGANGA celui qui soigne \n\n\n\n\n\n\n\nMuganga\, celui qui soigne\n\n\n\nSortie en : 2025 \n\n\n\nDurée : 01h45min \n\n\n\nGenre : Drame \n\n\n\nMention : Interdit moins de 12 ans\, avec avertissement  \n\n\n\nOrigine : France (VF) \n\n\n\nDe : Roux Marie-Hélène \n\n\n\nAvec : Isaach De Bankolé\, Vincent Macaigne\, Manon Bresch\, Babetida Sadjo \n\n\n\nSynopsis\n\n\n\nDenis Mukwege\, médecin congolais et futur Prix Nobel de la paix\, soigne — au péril de sa vie — des milliers de femmes victimes de violences sexuelles en République démocratique du Congo. Sa rencontre avec Guy Cadière\, chirurgien belge\, va redonner un souffle à son engagement. \n\n\n\nCritique\n\n\n\nC’est un film qui ne montre pas tant de violences\, mais qui les nomme. Viol\, colonialisme\, capitalisme : Muganga a compris que pour commencer à combattre l’horreur\, il faut savoir la nommer. En mettant en scène deux hommes face aux violences sexuelles infligées aux femmes\, Muganga réussit à prouver que ce sujet est plus que jamais l’affaire de tous. Eprouvant mais nécessaire. \n\n\n\n\n\n\n\nPlus d’infos sur Cinéco  \n\n\n\net bande annonce
URL:https://mairie-anduze.fr/event/cinema-muganga-celui-qui-soigne/
ATTACH;FMTTYPE=image/png:https://mairie-anduze.fr/wp-content/uploads/2026/01/Capture-decran-2026-01-09-090120.png
END:VEVENT
END:VCALENDAR