BEGIN:VCALENDAR
VERSION:2.0
PRODID:-//Ville d&#039;Anduze - ECPv6.15.20//NONSGML v1.0//EN
CALSCALE:GREGORIAN
METHOD:PUBLISH
X-WR-CALNAME:Ville d&#039;Anduze
X-ORIGINAL-URL:https://mairie-anduze.fr
X-WR-CALDESC:Évènements pour Ville d&#039;Anduze
REFRESH-INTERVAL;VALUE=DURATION:PT1H
X-Robots-Tag:noindex
X-PUBLISHED-TTL:PT1H
BEGIN:VTIMEZONE
TZID:Europe/Paris
BEGIN:DAYLIGHT
TZOFFSETFROM:+0100
TZOFFSETTO:+0200
TZNAME:CEST
DTSTART:20240331T010000
END:DAYLIGHT
BEGIN:STANDARD
TZOFFSETFROM:+0200
TZOFFSETTO:+0100
TZNAME:CET
DTSTART:20241027T010000
END:STANDARD
BEGIN:DAYLIGHT
TZOFFSETFROM:+0100
TZOFFSETTO:+0200
TZNAME:CEST
DTSTART:20250330T010000
END:DAYLIGHT
BEGIN:STANDARD
TZOFFSETFROM:+0200
TZOFFSETTO:+0100
TZNAME:CET
DTSTART:20251026T010000
END:STANDARD
BEGIN:DAYLIGHT
TZOFFSETFROM:+0100
TZOFFSETTO:+0200
TZNAME:CEST
DTSTART:20260329T010000
END:DAYLIGHT
BEGIN:STANDARD
TZOFFSETFROM:+0200
TZOFFSETTO:+0100
TZNAME:CET
DTSTART:20261025T010000
END:STANDARD
END:VTIMEZONE
BEGIN:VEVENT
DTSTART;TZID=Europe/Paris:20250104T203000
DTEND;TZID=Europe/Paris:20250104T223000
DTSTAMP:20260420T131455
CREATED:20241007T130854Z
LAST-MODIFIED:20241228T095412Z
UID:25369-1736022600-1736029800@mairie-anduze.fr
SUMMARY:Cinéco 🎬​ "En fanfare"
DESCRIPTION:Comme tous les premiers samedis du mois\, la Mairie d’Anduze vous propose une séance de cinéma organisée par Cinéco \, le cinéma itinérant en Cévennes. \n\n\n\nMerci aux bénévoles qui en assurent la logistique \n\n\n\n\nSortie en : 2024 \n\n\n\nDurée : 01h43min \n\n\n\nGenre : Comédie dramatique pas triste \n\n\n\nMention :  \n\n\n\nOrigine : France (VF) \n\n\n\nDe : Courcol Emmanuel\, \n\n\n\nAvec : Benjamin Lavernhe\, Pierre Lottin\, Sarah Suco \n\n\n\n\nSynopsis\n\n\n\nThibaut est un chef d’orchestre de renommée internationale qui parcourt le monde. Lorsqu’il apprend qu’il a été adopté\, il découvre l’existence d’un frère\, Jimmy\, qui joue du trombone dans une fanfare du nord de la France. En apparence tout les sépare\, sauf l’amour de la musique… \n\n\n\nCritique\n\n\n\nEnthousiasmant\, populaire au sens noble du terme\, généreux\, le film touche en plein mille dans un cinéma du bonheur partagé. C’est aussi ça le cinéma. Tout laisse penser que le long-métrage sera un très grand succès de salle à l’instar d’ « Un triomphe » qui avait réuni plus de 300 000 entrées à travers le monde. \n\n\n\n\n\n\n\nBande annonce: cliquez ici
URL:https://mairie-anduze.fr/event/cineco-%f0%9f%8e%ac-en-fanfare/
LOCATION:Salle des Casernes • Espace Pélico\, 1er étage de l'Espace Pélico\, rue Pélico\, 30140 Anduze
ATTACH;FMTTYPE=image/jpeg:https://mairie-anduze.fr/wp-content/uploads/2021/12/illustration_cinema.jpg
END:VEVENT
END:VCALENDAR