BEGIN:VCALENDAR
VERSION:2.0
PRODID:-//Ville d&#039;Anduze - ECPv6.15.20//NONSGML v1.0//EN
CALSCALE:GREGORIAN
METHOD:PUBLISH
X-WR-CALNAME:Ville d&#039;Anduze
X-ORIGINAL-URL:https://mairie-anduze.fr
X-WR-CALDESC:Évènements pour Ville d&#039;Anduze
REFRESH-INTERVAL;VALUE=DURATION:PT1H
X-Robots-Tag:noindex
X-PUBLISHED-TTL:PT1H
BEGIN:VTIMEZONE
TZID:Europe/Paris
BEGIN:DAYLIGHT
TZOFFSETFROM:+0100
TZOFFSETTO:+0200
TZNAME:CEST
DTSTART:20220327T010000
END:DAYLIGHT
BEGIN:STANDARD
TZOFFSETFROM:+0200
TZOFFSETTO:+0100
TZNAME:CET
DTSTART:20221030T010000
END:STANDARD
BEGIN:DAYLIGHT
TZOFFSETFROM:+0100
TZOFFSETTO:+0200
TZNAME:CEST
DTSTART:20230326T010000
END:DAYLIGHT
BEGIN:STANDARD
TZOFFSETFROM:+0200
TZOFFSETTO:+0100
TZNAME:CET
DTSTART:20231029T010000
END:STANDARD
BEGIN:DAYLIGHT
TZOFFSETFROM:+0100
TZOFFSETTO:+0200
TZNAME:CEST
DTSTART:20240331T010000
END:DAYLIGHT
BEGIN:STANDARD
TZOFFSETFROM:+0200
TZOFFSETTO:+0100
TZNAME:CET
DTSTART:20241027T010000
END:STANDARD
END:VTIMEZONE
BEGIN:VEVENT
DTSTART;TZID=Europe/Paris:20230128T140000
DTEND;TZID=Europe/Paris:20230128T170000
DTSTAMP:20260421T165346
CREATED:20230123T094719Z
LAST-MODIFIED:20230123T094824Z
UID:18388-1674914400-1674925200@mairie-anduze.fr
SUMMARY:Atelier "Un autre regard sur la nature : dans la savane"
DESCRIPTION:Dans le cadre des rendez-vous de la médiathèque \n\n\n\nAtelier « Dans la savane » \n\n\n\nMieux connaître les animaux grâce aux masques ou cartes créatives \n\n\n\nPremier étage de l’Espace Pélico • 14h – 17h \n\n\n\nGratuits et ouverts à tous \n\n\n\nRenseignements et inscriptions : 06 60 25 85 36
URL:https://mairie-anduze.fr/event/atelier-creation-et-decouverte-un-autre-regard-sur-la-nature-10/
LOCATION:Médiathèque Lucie Mazauric\, 1 Plan de Brie\, 30140 Anduze\, France
CATEGORIES:Culture
ATTACH;FMTTYPE=image/jpeg:https://mairie-anduze.fr/wp-content/uploads/2022/07/illustration_creation-et-decouverte_logo.jpg
END:VEVENT
END:VCALENDAR